BEGIN:VCALENDAR
VERSION:2.0
PRODID:-//project/author//NONSGML v1.0//EN
CALSCALE:GREGORIAN
BEGIN:VEVENT
DTSTART:20230523T090000
LOCATION:NürnbergMesse GmbH, Messezentrum 1, 90471 Nürnberg
DTEND:20230525T160000
DTSTAMP:20260422T131816
UID:1636
SUMMARY:MedtecLIVE
URL;VALUE=URI:
END:VEVENT
END:VCALENDAR