BEGIN:VCALENDAR
VERSION:2.0
PRODID:-//project/author//NONSGML v1.0//EN
CALSCALE:GREGORIAN
BEGIN:VEVENT
DTSTART:20230220T090000
LOCATION:online
DTEND:20230221T170000
DTSTAMP:20260420T160849
UID:1629
SUMMARY:Reaktionstechnik - Das Engineering chemischer Reaktionen
URL;VALUE=URI:
END:VEVENT
END:VCALENDAR