BEGIN:VCALENDAR
VERSION:2.0
PRODID:-//project/author//NONSGML v1.0//EN
CALSCALE:GREGORIAN
BEGIN:VEVENT
DTSTART:20221205T140000
LOCATION:online
DTEND:20221205T150000
DTSTAMP:20260419T190324
UID:1627
SUMMARY:Neue Wertschöpfungsketten aus Biogasanlagen
URL;VALUE=URI:
END:VEVENT
END:VCALENDAR