BEGIN:VCALENDAR
VERSION:2.0
PRODID:-//project/author//NONSGML v1.0//EN
CALSCALE:GREGORIAN
BEGIN:VEVENT
DTSTART:20221207T160000
LOCATION:Online, Dresden, Germany
DTEND:20221207T170000
DTSTAMP:20260420T231455
UID:1613
SUMMARY:More than Moore via 2.5D IC Integration - Automotive Electronic Control Unit (ECU) for ADAS Application Based on a Chiplet Approach
URL;VALUE=URI:
END:VEVENT
END:VCALENDAR