BEGIN:VCALENDAR
VERSION:2.0
PRODID:-//project/author//NONSGML v1.0//EN
CALSCALE:GREGORIAN
BEGIN:VEVENT
DTSTART:20221020T083000
LOCATION:Stadthalle Tuttlingen, Königstraße 39, 78532 Tuttlingen
DTEND:20221020T180000
DTSTAMP:20260422T142201
UID:1611
SUMMARY:14. Innovation Forum Medizintechnik
URL;VALUE=URI:
END:VEVENT
END:VCALENDAR