BEGIN:VCALENDAR
VERSION:2.0
PRODID:-//project/author//NONSGML v1.0//EN
CALSCALE:GREGORIAN
BEGIN:VEVENT
DTSTART:20221109T133000
LOCATION:Kraftverkehr Chemnitz, Chemnitz
DTEND:20221109T133000
DTSTAMP:20260422T103611
UID:1609
SUMMARY:2. DIANA-Forum: POCT aus Endanwendersicht 
URL;VALUE=URI:
END:VEVENT
END:VCALENDAR