BEGIN:VCALENDAR
VERSION:2.0
PRODID:-//project/author//NONSGML v1.0//EN
CALSCALE:GREGORIAN
BEGIN:VEVENT
DTSTART:20221025T170000
LOCATION:Dresden, Germany
DTEND:20221025T180000
DTSTAMP:20260420T184315
UID:1608
SUMMARY:Role of Lipids in CNS Regeneration
URL;VALUE=URI:
END:VEVENT
END:VCALENDAR