BEGIN:VCALENDAR
VERSION:2.0
PRODID:-//project/author//NONSGML v1.0//EN
CALSCALE:GREGORIAN
BEGIN:VEVENT
DTSTART:20221206T090000
LOCATION:FILK Freiberg Institute gGmbH, Meißner Ring, 1-5, 09599 Freiberg, Deutschland
DTEND:20221206T160000
DTSTAMP:20260421T123338
UID:1607
SUMMARY:Angewandte Kollagenforschung: Realitätsnahe Abbilder – Aktuelle Entwicklungen auf dem Gebiet der Gewebe- und Organmodelle
URL;VALUE=URI:
END:VEVENT
END:VCALENDAR