BEGIN:VCALENDAR
VERSION:2.0
PRODID:-//project/author//NONSGML v1.0//EN
CALSCALE:GREGORIAN
BEGIN:VEVENT
DTSTART:20221012T160000
LOCATION:Dresden, Deutschland
DTEND:20221012T170000
DTSTAMP:20260419T174223
UID:1599
SUMMARY:More than Moore via 2.5D IC integration technology - Automotive electronic control unit (ECU) for ADAS application based on a Chiplet approach
URL;VALUE=URI:
END:VEVENT
END:VCALENDAR