BEGIN:VCALENDAR
VERSION:2.0
PRODID:-//project/author//NONSGML v1.0//EN
CALSCALE:GREGORIAN
BEGIN:VEVENT
DTSTART:20220922T080000
LOCATION:Carlowitz Congresscenter - C3, Theaterstraße  3, 09120 Chemnitz
DTEND:20220922T180000
DTSTAMP:20260422T131035
UID:1591
SUMMARY:4. Agetech Konferenz 2022
URL;VALUE=URI:
END:VEVENT
END:VCALENDAR