BEGIN:VCALENDAR
VERSION:2.0
PRODID:-//project/author//NONSGML v1.0//EN
CALSCALE:GREGORIAN
BEGIN:VEVENT
DTSTART:20220906T090000
LOCATION:Martin Luther University Halle-Wittenberg | Hörsaalgebäude Campus Heide-Süd, Theodor-Lieser-Straße 9, 06120 Halle (Saale), Deutschland
DTEND:20220908T200000
DTSTAMP:20260421T125242
UID:1590
SUMMARY:German Conference on Bioinformatics 2022
URL;VALUE=URI:
END:VEVENT
END:VCALENDAR