BEGIN:VCALENDAR
VERSION:2.0
PRODID:-//project/author//NONSGML v1.0//EN
CALSCALE:GREGORIAN
BEGIN:VEVENT
DTSTART:20220926T000000
DTEND:20220928T000000
DTSTAMP:20260422T142227
UID:1584
SUMMARY:4. Bioökonomiekongress Baden-Württemberg 
URL;VALUE=URI:
END:VEVENT
END:VCALENDAR