BEGIN:VCALENDAR
VERSION:2.0
PRODID:-//project/author//NONSGML v1.0//EN
CALSCALE:GREGORIAN
BEGIN:VEVENT
DTSTART:20220907T000000
LOCATION:Leipzig
DTEND:20220909T000000
DTSTAMP:20260420T160824
UID:1579
SUMMARY:4. HEALTH INSURANCE HACK&CON 2022 Leipzig
URL;VALUE=URI:
END:VEVENT
END:VCALENDAR