BEGIN:VCALENDAR
VERSION:2.0
PRODID:-//project/author//NONSGML v1.0//EN
CALSCALE:GREGORIAN
BEGIN:VEVENT
DTSTART:20220614T090000
LOCATION:Genf
DTEND:20220617T180000
DTSTAMP:20260420T160838
UID:1573
SUMMARY:EPHJ-Fachmesse
URL;VALUE=URI:
END:VEVENT
END:VCALENDAR