BEGIN:VCALENDAR
VERSION:2.0
PRODID:-//project/author//NONSGML v1.0//EN
CALSCALE:GREGORIAN
BEGIN:VEVENT
DTSTART:20220623T120000
LOCATION:Leipzig
DTEND:20220624T113000
DTSTAMP:20260420T184327
UID:1564
SUMMARY:Jahrestagung der Laborbranche 2022
URL;VALUE=URI:
END:VEVENT
END:VCALENDAR