BEGIN:VCALENDAR
VERSION:2.0
PRODID:-//project/author//NONSGML v1.0//EN
CALSCALE:GREGORIAN
BEGIN:VEVENT
DTSTART:20220517T170000
LOCATION:Dresden, Deutschland
DTEND:20220517T180000
DTSTAMP:20260420T162421
UID:1561
SUMMARY:Shotgun Lipidomics of Tissue Biopsies
URL;VALUE=URI:
END:VEVENT
END:VCALENDAR