BEGIN:VCALENDAR
VERSION:2.0
PRODID:-//project/author//NONSGML v1.0//EN
CALSCALE:GREGORIAN
BEGIN:VEVENT
DTSTART:20220502T100000
LOCATION:Altenburger Brauerei, Brauereistraße 20, 04600 Altenburg & Livestream
DTEND:20220502T170000
DTSTAMP:20260420T215303
UID:1557
SUMMARY:1. Mitteldeutscher Bioökonomie-Kongress 
URL;VALUE=URI:
END:VEVENT
END:VCALENDAR