BEGIN:VCALENDAR
VERSION:2.0
PRODID:-//project/author//NONSGML v1.0//EN
CALSCALE:GREGORIAN
BEGIN:VEVENT
DTSTART:20220712T130000
LOCATION:BIO CITY LEIPZIG, Deutscher Platz 5, 04103 Leipzig
DTEND:20220712T210000
DTSTAMP:20260419T190344
UID:1554
SUMMARY:biosaxony Mitgliederversammlung | Opening Medical Forge | Netzwerkparty
URL;VALUE=URI:
END:VEVENT
END:VCALENDAR