BEGIN:VCALENDAR
VERSION:2.0
PRODID:-//project/author//NONSGML v1.0//EN
CALSCALE:GREGORIAN
BEGIN:VEVENT
DTSTART:20220223T103000
LOCATION:ONLINE
DTEND:20220223T123000
DTSTAMP:20260421T000957
UID:1539
SUMMARY:Take a Deep Dive into the UK Healthcare and Life Sciences Ecosystem
URL;VALUE=URI:
END:VEVENT
END:VCALENDAR