BEGIN:VCALENDAR
VERSION:2.0
PRODID:-//project/author//NONSGML v1.0//EN
CALSCALE:GREGORIAN
BEGIN:VEVENT
DTSTART:20220329T080000
LOCATION:Online
DTEND:20220330T160000
DTSTAMP:20260423T104212
UID:1536
SUMMARY:Arbeitsschutz im Labor
URL;VALUE=URI:
END:VEVENT
END:VCALENDAR