BEGIN:VCALENDAR
VERSION:2.0
PRODID:-//project/author//NONSGML v1.0//EN
CALSCALE:GREGORIAN
BEGIN:VEVENT
DTSTART:20220324T080000
LOCATION:Online
DTEND:20220324T080000
DTSTAMP:20260421T125201
UID:1534
SUMMARY:Aktualisierungskurs für Projektleiter und Beauftragte für Biologische Sicherheit
URL;VALUE=URI:
END:VEVENT
END:VCALENDAR