BEGIN:VCALENDAR
VERSION:2.0
PRODID:-//project/author//NONSGML v1.0//EN
CALSCALE:GREGORIAN
BEGIN:VEVENT
DTSTART:20220513T110000
LOCATION:BIO CITY LEIPZIG, Deutscher Platz 5, 04103 Leipzig, Deutschland
DTEND:20220513T160000
DTSTAMP:20260420T185253
UID:1532
SUMMARY:SAVE THE DATE bionection meets AI
URL;VALUE=URI:
END:VEVENT
END:VCALENDAR