BEGIN:VCALENDAR
VERSION:2.0
PRODID:-//project/author//NONSGML v1.0//EN
CALSCALE:GREGORIAN
BEGIN:VEVENT
DTSTART:20220225T100000
LOCATION:Online via Zoom
DTEND:20220225T113000
DTSTAMP:20260420T201807
UID:1530
SUMMARY:positive Psychologie
URL;VALUE=URI:
END:VEVENT
END:VCALENDAR