BEGIN:VCALENDAR
VERSION:2.0
PRODID:-//project/author//NONSGML v1.0//EN
CALSCALE:GREGORIAN
BEGIN:VEVENT
DTSTART:20220208T130000
LOCATION:ONLINE, online, Deutschland
DTEND:20220208T143000
DTSTAMP:20260421T113556
UID:1524
SUMMARY:Antragstellung im Horizont-Europa-Cluster Gesundheit: Online-Seminarreihe und offener Austausch / Impact 
URL;VALUE=URI:
END:VEVENT
END:VCALENDAR