BEGIN:VCALENDAR
VERSION:2.0
PRODID:-//project/author//NONSGML v1.0//EN
CALSCALE:GREGORIAN
BEGIN:VEVENT
DTSTART:20220207T130000
LOCATION:ONLINE, online, Deutschland
DTEND:20220207T143000
DTSTAMP:20260421T125313
UID:1523
SUMMARY:Antragstellung im Horizont-Europa-Cluster Gesundheit: Online-Seminarreihe und offener Austausch / Part A & Excellence
URL;VALUE=URI:
END:VEVENT
END:VCALENDAR