BEGIN:VCALENDAR
VERSION:2.0
PRODID:-//project/author//NONSGML v1.0//EN
CALSCALE:GREGORIAN
BEGIN:VEVENT
DTSTART:20220324T083000
LOCATION:online, Deutschland
DTEND:20220324T171500
DTSTAMP:20260421T125313
UID:1520
SUMMARY:Aktualisierungskurs für Projektleiter und Beauftragte für Biologische Sicherheit
URL;VALUE=URI:
END:VEVENT
END:VCALENDAR