BEGIN:VCALENDAR
VERSION:2.0
PRODID:-//project/author//NONSGML v1.0//EN
CALSCALE:GREGORIAN
BEGIN:VEVENT
DTSTART:20220210T180000
LOCATION:ONLINE
DTEND:20220210T203000
DTSTAMP:20260419T185507
UID:1518
SUMMARY:Pitch your best! – Die White IP Business Challenge
URL;VALUE=URI:
END:VEVENT
END:VCALENDAR