BEGIN:VCALENDAR
VERSION:2.0
PRODID:-//project/author//NONSGML v1.0//EN
CALSCALE:GREGORIAN
BEGIN:VEVENT
DTSTART:20220131T080000
LOCATION:ONLINE
DTEND:20220131T130000
DTSTAMP:20260419T155832
UID:1517
SUMMARY:Flexible Electronics and Sensors for Health - Healthtronics EU-Japan Bridge
URL;VALUE=URI:
END:VEVENT
END:VCALENDAR