BEGIN:VCALENDAR
VERSION:2.0
PRODID:-//project/author//NONSGML v1.0//EN
CALSCALE:GREGORIAN
BEGIN:VEVENT
DTSTART:20221013T090000
LOCATION:Fraunhofer-Institut für Integrierte Schaltungen IIS, Institutsteil Entwicklung Adaptiver Systeme EAS, 01187 Dresden, Deutschland
DTEND:20221013T173000
DTSTAMP:20260422T105619
UID:1514
SUMMARY:KI-Grundlagenschulung (EN)
URL;VALUE=URI:
END:VEVENT
END:VCALENDAR