BEGIN:VCALENDAR
VERSION:2.0
PRODID:-//project/author//NONSGML v1.0//EN
CALSCALE:GREGORIAN
BEGIN:VEVENT
DTSTART:20220407T090000
LOCATION:Fraunhofer-Institut für Integrierte Schaltungen IIS, Institutsteil Entwicklung Adaptiver Systeme EAS, 01187 Dresden, Deutschland
DTEND:20220407T173000
DTSTAMP:20260420T200446
UID:1508
SUMMARY:KI-Grundlagenschulung
URL;VALUE=URI:
END:VEVENT
END:VCALENDAR