BEGIN:VCALENDAR
VERSION:2.0
PRODID:-//project/author//NONSGML v1.0//EN
CALSCALE:GREGORIAN
BEGIN:VEVENT
DTSTART:20220608T150000
LOCATION:Fraunhofer IIS/EAS, Münchner Straße, 01187 Dresden, Deutschland
DTEND:20220608T160000
DTSTAMP:20260422T130832
UID:1502
SUMMARY:IC Reliability – an Overview
URL;VALUE=URI:
END:VEVENT
END:VCALENDAR