BEGIN:VCALENDAR
VERSION:2.0
PRODID:-//project/author//NONSGML v1.0//EN
CALSCALE:GREGORIAN
BEGIN:VEVENT
DTSTART:20220504T160000
LOCATION:Fraunhofer IIS/EAS, Münchner Straße, 01187 Dresden, Deutschland
DTEND:20220504T170000
DTSTAMP:20260420T184337
UID:1501
SUMMARY:Reusable Analog IP – Make Your IP Intelligent with Intelligent IP
URL;VALUE=URI:
END:VEVENT
END:VCALENDAR