BEGIN:VCALENDAR
VERSION:2.0
PRODID:-//project/author//NONSGML v1.0//EN
CALSCALE:GREGORIAN
BEGIN:VEVENT
DTSTART:20220216T000000
LOCATION:online
DTEND:20220218T234500
DTSTAMP:20260422T103647
UID:1499
SUMMARY:digitales 6th ECP - INDUSTRY BUSINESS SPEED DATING
URL;VALUE=URI:
END:VEVENT
END:VCALENDAR