BEGIN:VCALENDAR
VERSION:2.0
PRODID:-//project/author//NONSGML v1.0//EN
CALSCALE:GREGORIAN
BEGIN:VEVENT
DTSTART:20220119T160000
LOCATION:online
DTEND:20220119T180000
DTSTAMP:20260419T174329
UID:1494
SUMMARY:Digitaler Neujahrsempfang 2022 von biosaxony
URL;VALUE=URI:
END:VEVENT
END:VCALENDAR