BEGIN:VCALENDAR
VERSION:2.0
PRODID:-//project/author//NONSGML v1.0//EN
CALSCALE:GREGORIAN
BEGIN:VEVENT
DTSTART:20220913T090000
LOCATION:online
DTEND:20220913T160000
DTSTAMP:20260420T231601
UID:1492
SUMMARY:Regulatory Check Up: 1 Stunde kostenfreie Beratung
URL;VALUE=URI:
END:VEVENT
END:VCALENDAR