BEGIN:VCALENDAR
VERSION:2.0
PRODID:-//project/author//NONSGML v1.0//EN
CALSCALE:GREGORIAN
BEGIN:VEVENT
DTSTART:20220208T090000
LOCATION:online
DTEND:20220208T160000
DTSTAMP:20260420T173417
UID:1485
SUMMARY:Regulatory Check Up: 1 Stunde kostenfreie Beratung
URL;VALUE=URI:
END:VEVENT
END:VCALENDAR