BEGIN:VCALENDAR
VERSION:2.0
PRODID:-//project/author//NONSGML v1.0//EN
CALSCALE:GREGORIAN
BEGIN:VEVENT
DTSTART:20220126T090000
LOCATION:VDI-GaraGe gGmbH, Karl-Heine-Straße 97, 04229 Leipzig, Deutschland
DTEND:20220127T153000
DTSTAMP:20260419T155817
UID:1481
SUMMARY:Fachtagung "Kunststoff trifft Medizintechnik"
URL;VALUE=URI:
END:VEVENT
END:VCALENDAR