BEGIN:VCALENDAR
VERSION:2.0
PRODID:-//project/author//NONSGML v1.0//EN
CALSCALE:GREGORIAN
BEGIN:VEVENT
DTSTART:20211202T170000
LOCATION:Dresden, Deutschland
DTEND:20211202T180000
DTSTAMP:20260420T180533
UID:1478
SUMMARY:Why Population Health Studies Must Apply Lipidomics | The Lipidomics Webinar #3 | with Christian Klose
URL;VALUE=URI:
END:VEVENT
END:VCALENDAR