BEGIN:VCALENDAR
VERSION:2.0
PRODID:-//project/author//NONSGML v1.0//EN
CALSCALE:GREGORIAN
BEGIN:VEVENT
DTSTART:20211209T090000
LOCATION:Fraunhofer IIS/EAS, Münchner Straße, 01187 Dresden, Deutschland
DTEND:20211210T163000
DTSTAMP:20260420T144828
UID:1476
SUMMARY:Schulung Predictive Maintenance
URL;VALUE=URI:
END:VEVENT
END:VCALENDAR