BEGIN:VCALENDAR
VERSION:2.0
PRODID:-//project/author//NONSGML v1.0//EN
CALSCALE:GREGORIAN
BEGIN:VEVENT
DTSTART:20211129T160000
LOCATION:online
DTEND:20211129T170000
DTSTAMP:20260421T125113
UID:1475
SUMMARY:Patente in der Pandemie und als Instrumente der Unternehmensfinanzierung
URL;VALUE=URI:
END:VEVENT
END:VCALENDAR