BEGIN:VCALENDAR
VERSION:2.0
PRODID:-//project/author//NONSGML v1.0//EN
CALSCALE:GREGORIAN
BEGIN:VEVENT
DTSTART:20211209T163000
LOCATION:Kraftwerk Rottweil, Neckartal 68, 78628 Rottweil
DTEND:20211209T200000
DTSTAMP:20260421T113412
UID:1465
SUMMARY:Gespräche der Zukunft 
URL;VALUE=URI:
END:VEVENT
END:VCALENDAR