BEGIN:VCALENDAR
VERSION:2.0
PRODID:-//project/author//NONSGML v1.0//EN
CALSCALE:GREGORIAN
BEGIN:VEVENT
DTSTART:20211007T150000
LOCATION:online
DTEND:20211007T170000
DTSTAMP:20260420T153048
UID:1456
SUMMARY:15. Leipziger Gespräche zur Gesundheits- und Sozialpolitik
URL;VALUE=URI:
END:VEVENT
END:VCALENDAR