BEGIN:VCALENDAR
VERSION:2.0
PRODID:-//project/author//NONSGML v1.0//EN
CALSCALE:GREGORIAN
BEGIN:VEVENT
DTSTART:20211104T150000
LOCATION:Online, Online, Deutschland
DTEND:20211104T180000
DTSTAMP:20260421T125345
UID:1454
SUMMARY:DECHEMA-Kolloquium "Cell cultured meat: Luxus oder Commodity?"
URL;VALUE=URI:
END:VEVENT
END:VCALENDAR