BEGIN:VCALENDAR
VERSION:2.0
PRODID:-//project/author//NONSGML v1.0//EN
CALSCALE:GREGORIAN
BEGIN:VEVENT
DTSTART:20210914T000000
LOCATION:online
DTEND:20210914T000000
DTSTAMP:20260419T161451
UID:1450
SUMMARY:Regulatory Check-Up: 1 Stunde kostenfreie Beratung
URL;VALUE=URI:
END:VEVENT
END:VCALENDAR