BEGIN:VCALENDAR
VERSION:2.0
PRODID:-//project/author//NONSGML v1.0//EN
CALSCALE:GREGORIAN
BEGIN:VEVENT
DTSTART:20211006T130000
LOCATION:Fraunhofer IIS/EAS, Dresden, Deutschland
DTEND:20211006T140000
DTSTAMP:20260422T131151
UID:1437
SUMMARY:Challenges and Solutions to Analog Integrated Design Efficiency
URL;VALUE=URI:
END:VEVENT
END:VCALENDAR