BEGIN:VCALENDAR
VERSION:2.0
PRODID:-//project/author//NONSGML v1.0//EN
CALSCALE:GREGORIAN
BEGIN:VEVENT
DTSTART:20210921T090000
LOCATION:Online, Frankfurt
DTEND:20210922T170000
DTSTAMP:20260421T113447
UID:1431
SUMMARY:Multivariate Datenanalyse für die Pharma-, Bio- und Prozessanalytik
URL;VALUE=URI:
END:VEVENT
END:VCALENDAR