BEGIN:VCALENDAR
VERSION:2.0
PRODID:-//project/author//NONSGML v1.0//EN
CALSCALE:GREGORIAN
BEGIN:VEVENT
DTSTART:20210713T150000
LOCATION:online
DTEND:20210713T163000
DTSTAMP:20260424T151708
UID:1423
SUMMARY:EY Biotech Report: virtuelle Vorstellung
URL;VALUE=URI:
END:VEVENT
END:VCALENDAR