BEGIN:VCALENDAR
VERSION:2.0
PRODID:-//project/author//NONSGML v1.0//EN
CALSCALE:GREGORIAN
BEGIN:VEVENT
DTSTART:20210623T090000
LOCATION:Aachen, Deutschland
DTEND:20210624T140000
DTSTAMP:20260422T142356
UID:1420
SUMMARY:INC Technology and Innovation Summit
URL;VALUE=URI:
END:VEVENT
END:VCALENDAR