BEGIN:VCALENDAR
VERSION:2.0
PRODID:-//project/author//NONSGML v1.0//EN
CALSCALE:GREGORIAN
BEGIN:VEVENT
DTSTART:20210922T083000
LOCATION:Congress Center Leipzig (CCL), Messe-Allee 1, 04356 Leipzig, Deutschland
DTEND:20210923T160000
DTSTAMP:20260419T144047
UID:1419
SUMMARY:MEDCARE 2021 - Kongress mit Fachmesse für klinische und außerklinische Patientenversorgung
URL;VALUE=URI:
END:VEVENT
END:VCALENDAR