BEGIN:VCALENDAR
VERSION:2.0
PRODID:-//project/author//NONSGML v1.0//EN
CALSCALE:GREGORIAN
BEGIN:VEVENT
DTSTART:20210913T090000
LOCATION:Online, Frankfurt, Deutschland
DTEND:20210917T170000
DTSTAMP:20260420T200518
UID:1411
SUMMARY:German Conference on Synthetic Biology (GCSB21) - Engineering Living Systems
URL;VALUE=URI:
END:VEVENT
END:VCALENDAR